BEGIN:VCALENDAR
METHOD:PUBLISH
VERSION:2.0
CALSCALE:GREGORIAN
PRODID:-//NONSGML WPForms//NONSGML Sugar Calendar Feeds v3.11.0//EN
X-WR-CALNAME:OC6 Reservations
X-WR-CALDESC:Outrigger Santa Cruz
X-WR-TIMEZONE:America/Los_Angeles
BEGIN:VTIMEZONE
TZID:America/Los_Angeles
BEGIN:STANDARD
TZOFFSETFROM:-0700
TZOFFSETTO:-0800
DTSTART:20251102T090000
TZNAME:PST
END:STANDARD
BEGIN:DAYLIGHT
TZOFFSETFROM:-0800
TZOFFSETTO:-0700
DTSTART:20260308T100000
TZNAME:PDT
END:DAYLIGHT
END:VTIMEZONE
BEGIN:VTIMEZONE
TZID:America/Los_Angeles
BEGIN:STANDARD
TZOFFSETFROM:-0700
TZOFFSETTO:-0800
DTSTART:20251102T090000
TZNAME:PST
END:STANDARD
BEGIN:DAYLIGHT
TZOFFSETFROM:-0800
TZOFFSETTO:-0700
DTSTART:20260308T100000
TZNAME:PDT
END:DAYLIGHT
END:VTIMEZONE
BEGIN:VEVENT
SUMMARY:OC6 Reservations
DESCRIPTION:Date: 04/24/2026Start Time: 6:15 AMEnd Time: 8:00 AMLead Con
 tact Name: Rachel Marcuson/Yoko McMillanLead Contact Email: rmarcuson@g
 mail.comLead Contact Phone: (201) 663-2617OSC Members Participating: Sim
 ine C.\, Katie\, Jeannie B.\, Amy F.\, Micki K.\, Leisl L.\, Cheryl G.\,
  Reni\,Tarita\, Lisa P.Accredited Steerspeople: Yoko McMillan\, Theresa 
 MulderCanoe Type: Unlimited (2)Float Plan: Harbor > Seal Rock > Natural 
 Bridges> Mile Buoy>Pleasure Point>HarborSent from&nbsp\;Outrigger Santa 
 Cruz
URL;VALUE=URI:https://outriggersantacruz.org/events/oc6-reservations/
UID:urn:uuid:3db1d22b-0eac-46fe-a29e-099bc6d74ce1
STATUS:CONFIRMED
ORGANIZER:
DTSTAMP:20260424T094310Z
DTSTART;TZID=America/Los_Angeles:20260424T061500
DTEND;TZID=America/Los_Angeles:20260424T080000
END:VEVENT
END:VCALENDAR