BEGIN:VCALENDAR
METHOD:PUBLISH
VERSION:2.0
CALSCALE:GREGORIAN
PRODID:-//NONSGML WPForms//NONSGML Sugar Calendar Feeds v3.11.0//EN
X-WR-CALNAME:OC6 Reservation(1)
X-WR-CALDESC:Outrigger Santa Cruz
X-WR-TIMEZONE:America/Los_Angeles
BEGIN:VTIMEZONE
TZID:America/Los_Angeles
BEGIN:STANDARD
TZOFFSETFROM:-0700
TZOFFSETTO:-0800
DTSTART:20251102T090000
TZNAME:PST
END:STANDARD
END:VTIMEZONE
BEGIN:VTIMEZONE
TZID:America/Los_Angeles
BEGIN:STANDARD
TZOFFSETFROM:-0700
TZOFFSETTO:-0800
DTSTART:20251102T090000
TZNAME:PST
END:STANDARD
END:VTIMEZONE
BEGIN:VEVENT
SUMMARY:OC6 Reservation(1)
DESCRIPTION:Date: 02/13/2026Start Time: 8:00 AMEnd Time: 11:00 AMLead Co
 ntact Name: Elias StanomLead Contact Email: eliasst85@gmail.comLead Con
 tact Phone: (408) 863-2802OSC Members Participating: Elias Stanom\, Al L
 uckow\, Raol Ortiz\, Mike Glosny\, Isaac WoodNon-OSC Members Participati
 ng: 0Non-Swimmers (#): 0Accredited Steerer: Amy CulverCanoe Type: SpecDe
 scription of Event: paddle Float Plan: Harbor- West- Harbor
URL;VALUE=URI:https://outriggersantacruz.org/events/oc6-reservation1-2/
UID:urn:uuid:4b8ebf16-0925-4d3a-b8c6-a91c4211820a
STATUS:CONFIRMED
ORGANIZER:
DTSTAMP:20260421T084509Z
DTSTART;TZID=America/Los_Angeles:20260213T080000
DTEND;TZID=America/Los_Angeles:20260213T110000
END:VEVENT
END:VCALENDAR