BEGIN:VCALENDAR
METHOD:PUBLISH
VERSION:2.0
CALSCALE:GREGORIAN
PRODID:-//NONSGML WPForms//NONSGML Sugar Calendar Feeds v3.11.0//EN
X-WR-CALNAME:OC6 Reservation
X-WR-CALDESC:Outrigger Santa Cruz
X-WR-TIMEZONE:America/Los_Angeles
BEGIN:VTIMEZONE
TZID:America/Los_Angeles
BEGIN:STANDARD
TZOFFSETFROM:-0700
TZOFFSETTO:-0800
DTSTART:20251102T090000
TZNAME:PST
END:STANDARD
END:VTIMEZONE
BEGIN:VTIMEZONE
TZID:America/Los_Angeles
BEGIN:STANDARD
TZOFFSETFROM:-0700
TZOFFSETTO:-0800
DTSTART:20251102T090000
TZNAME:PST
END:STANDARD
END:VTIMEZONE
BEGIN:VEVENT
SUMMARY:OC6 Reservation
DESCRIPTION:Date: 02/25/2026Start Time: 9:30 AMEnd Time: 11:00 AMLead Co
 ntact Name: Kay MiyamotoLead Contact Email: millavok@yahoo.comLead Cont
 act Phone: (831) 475-1088OSC Members Participating: Simine C\, Debbie L\
 , Karen H\, .Michele PNon-OSC Members Participating:Non-Swimmers (#): 0A
 ccredited Steerspeople: Kay M\, Leslie ECanoe Type: SpecDescription of E
 vent: OC6 paddleFloat Plan: Pending conditions: Harbor\, Natural Bridges
 \, Harbor
URL;VALUE=URI:https://outriggersantacruz.org/events/oc6-reservation-4/
UID:urn:uuid:97e7752e-83fa-4ab5-b2a6-210802e4c73c
STATUS:CONFIRMED
ORGANIZER:
DTSTAMP:20260419T115921Z
DTSTART;TZID=America/Los_Angeles:20260225T093000
DTEND;TZID=America/Los_Angeles:20260225T113000
END:VEVENT
END:VCALENDAR