BEGIN:VCALENDAR
METHOD:PUBLISH
VERSION:2.0
CALSCALE:GREGORIAN
PRODID:-//NONSGML WPForms//NONSGML Sugar Calendar Feeds v3.11.0//EN
X-WR-CALNAME:OC6 Reservation(1)
X-WR-CALDESC:Outrigger Santa Cruz
X-WR-TIMEZONE:America/Los_Angeles
BEGIN:VTIMEZONE
TZID:America/Los_Angeles
BEGIN:STANDARD
TZOFFSETFROM:-0700
TZOFFSETTO:-0800
DTSTART:20251102T090000
TZNAME:PST
END:STANDARD
END:VTIMEZONE
BEGIN:VTIMEZONE
TZID:America/Los_Angeles
BEGIN:STANDARD
TZOFFSETFROM:-0700
TZOFFSETTO:-0800
DTSTART:20251102T090000
TZNAME:PST
END:STANDARD
END:VTIMEZONE
BEGIN:VEVENT
SUMMARY:OC6 Reservation(1)
DESCRIPTION:Date: 02/05/2026Start Time: 2:45 PMEnd Time: 4:30 PMLead Con
 tact Name: Rita MelamedLead Contact Email: atiramelamed@gmail.comLead C
 ontact Phone: (408) 499-9787OSC Members Participating: Lisa Johnson\, Ba
 rbara Leites\, Doug Evers\, Rita Melamed\, (                 )Non-OSC Me
 mbers Participating: 0Non-Swimmers (#): 0Accredited Steerspeople:  Nicho
 las CarverCanoe Type: SpecDescription of Event: paddleFloat Plan: Harbor
 -Mile buoy- Mitchell Cove- Harbor
URL;VALUE=URI:https://outriggersantacruz.org/events/oc6-reservation-3/
UID:urn:uuid:989caa9f-d66e-43f1-8465-2a3e968c5713
STATUS:CONFIRMED
ORGANIZER:
DTSTAMP:20260419T120220Z
DTSTART;TZID=America/Los_Angeles:20260205T144500
DTEND;TZID=America/Los_Angeles:20260205T163000
END:VEVENT
END:VCALENDAR