BEGIN:VCALENDAR
METHOD:PUBLISH
VERSION:2.0
CALSCALE:GREGORIAN
PRODID:-//NONSGML WPForms//NONSGML Sugar Calendar Feeds v3.11.0//EN
X-WR-CALNAME:OC6 Reservation
X-WR-CALDESC:Outrigger Santa Cruz
X-WR-TIMEZONE:America/Los_Angeles
BEGIN:VTIMEZONE
TZID:America/Los_Angeles
BEGIN:STANDARD
TZOFFSETFROM:-0700
TZOFFSETTO:-0800
DTSTART:20251102T090000
TZNAME:PST
END:STANDARD
BEGIN:DAYLIGHT
TZOFFSETFROM:-0800
TZOFFSETTO:-0700
DTSTART:20260308T100000
TZNAME:PDT
END:DAYLIGHT
END:VTIMEZONE
BEGIN:VTIMEZONE
TZID:America/Los_Angeles
BEGIN:STANDARD
TZOFFSETFROM:-0700
TZOFFSETTO:-0800
DTSTART:20251102T090000
TZNAME:PST
END:STANDARD
BEGIN:DAYLIGHT
TZOFFSETFROM:-0800
TZOFFSETTO:-0700
DTSTART:20260308T100000
TZNAME:PDT
END:DAYLIGHT
END:VTIMEZONE
BEGIN:VEVENT
SUMMARY:OC6 Reservation
DESCRIPTION:Date: 05/03/2026Start Time: 1:00 PMEnd Time: 4:00 PMLead Con
 tact Name: Micki KarrerLead Contact Email: heymickik@yahoo.comLead Cont
 act Phone: (408) 398-8737OSC Members Participating: Matt Paiss\, Mike Ma
 thieson\, Debbie Lockett\, Micki KarrerAccredited Steerspeople: Tracy Br
 own. Theresa MulderCanoe Type: UnlimitedFloat Plan: Harbor > Seal Rock >
  Seymour Labs >Mile Buoy>SC4>Harbor
URL;VALUE=URI:https://outriggersantacruz.org/events/oc6-reservation-29/
UID:urn:uuid:b9efab57-9fe7-4f7a-80d8-7cfc84611d05
STATUS:CONFIRMED
ORGANIZER:
DTSTAMP:20260424T114813Z
DTSTART;TZID=America/Los_Angeles:20260503T130000
DTEND;TZID=America/Los_Angeles:20260503T160000
END:VEVENT
END:VCALENDAR