BEGIN:VCALENDAR
METHOD:PUBLISH
VERSION:2.0
CALSCALE:GREGORIAN
PRODID:-//NONSGML WPForms//NONSGML Sugar Calendar Feeds v3.11.0//EN
X-WR-CALNAME:OC6 Reservation
X-WR-CALDESC:Outrigger Santa Cruz
X-WR-TIMEZONE:America/Los_Angeles
BEGIN:VTIMEZONE
TZID:America/Los_Angeles
BEGIN:STANDARD
TZOFFSETFROM:-0700
TZOFFSETTO:-0800
DTSTART:20251102T090000
TZNAME:PST
END:STANDARD
BEGIN:DAYLIGHT
TZOFFSETFROM:-0800
TZOFFSETTO:-0700
DTSTART:20260308T100000
TZNAME:PDT
END:DAYLIGHT
END:VTIMEZONE
BEGIN:VTIMEZONE
TZID:America/Los_Angeles
BEGIN:STANDARD
TZOFFSETFROM:-0700
TZOFFSETTO:-0800
DTSTART:20251102T090000
TZNAME:PST
END:STANDARD
BEGIN:DAYLIGHT
TZOFFSETFROM:-0800
TZOFFSETTO:-0700
DTSTART:20260308T100000
TZNAME:PDT
END:DAYLIGHT
END:VTIMEZONE
BEGIN:VEVENT
SUMMARY:OC6 Reservation
DESCRIPTION:Date: 04/30/2026Start Time: 3:30 AMEnd Time: 5:30 PMLead Con
 tact Name: Charleen RenatiLead Contact Email: charleenrenati@yahoo.comL
 ead Contact Phone: (408) 515-5451OSC Members Participating: Lisa J.\, Mi
 na N.\, Teresa B.\, Teri C.\, Nicole TAccredited Steerer: Charlene R.Can
 oe Type: SpecFloat Plan: 6-8 miles between the harbor\, marine lab\, mil
 e buoy\, Capitola Wharf and SC3. Exact route depends on conditions .
URL;VALUE=URI:https://outriggersantacruz.org/events/oc6-reservation-28/
UID:urn:uuid:1594e3da-557a-4ef4-9b31-bd8f899ac3d0
STATUS:CONFIRMED
ORGANIZER:
DTSTAMP:20260421T123525Z
DTSTART;TZID=America/Los_Angeles:20260430T153000
DTEND;TZID=America/Los_Angeles:20260430T173000
END:VEVENT
END:VCALENDAR