BEGIN:VCALENDAR
METHOD:PUBLISH
VERSION:2.0
CALSCALE:GREGORIAN
PRODID:-//NONSGML WPForms//NONSGML Sugar Calendar Feeds v3.11.0//EN
X-WR-CALNAME:OC6 Reservation (1)
X-WR-CALDESC:Outrigger Santa Cruz
X-WR-TIMEZONE:America/Los_Angeles
BEGIN:VTIMEZONE
TZID:America/Los_Angeles
BEGIN:STANDARD
TZOFFSETFROM:-0700
TZOFFSETTO:-0800
DTSTART:20251102T090000
TZNAME:PST
END:STANDARD
END:VTIMEZONE
BEGIN:VTIMEZONE
TZID:America/Los_Angeles
BEGIN:STANDARD
TZOFFSETFROM:-0700
TZOFFSETTO:-0800
DTSTART:20251102T090000
TZNAME:PST
END:STANDARD
END:VTIMEZONE
BEGIN:VEVENT
SUMMARY:OC6 Reservation (1)
DESCRIPTION:Date: 02/04/2026Start Time: 9:45 AMEnd Time: 12:00 PMLead Co
 ntact Name: Kay MiyamotoLead Contact Email: millavok@yahoo.comLead Cont
 act Phone: (831) 475-1088OSC Members Participating: Simine Carlo\, Debbi
 e Lockett\, Michele Pomroy\, Irene HaldermanNon-OSC Members Participatin
 g: 0Non-Swimmers (#): 0Accredited Steerspeople: Kay MiyamotoCanoe Type: 
 SpecDescription of Event: OC6 paddleFloat Plan: Harbor > Natural Bridges
  > Harbor
URL;VALUE=URI:https://outriggersantacruz.org/events/oc6-reservation-1/
UID:urn:uuid:1ff413b8-640a-41df-b675-3db84289be0c
STATUS:CONFIRMED
ORGANIZER:
DTSTAMP:20260419T132117Z
DTSTART;TZID=America/Los_Angeles:20260204T000000
DTEND;TZID=America/Los_Angeles:20260204T000000
END:VEVENT
END:VCALENDAR